BEGIN:VCALENDAR
VERSION:2.0
PRODID:-//Annecy Ludique - ECPv6.15.20//NONSGML v1.0//EN
CALSCALE:GREGORIAN
METHOD:PUBLISH
X-WR-CALNAME:Annecy Ludique
X-ORIGINAL-URL:https://www.annecyludique.fr
X-WR-CALDESC:Évènements pour Annecy Ludique
REFRESH-INTERVAL;VALUE=DURATION:PT1H
X-Robots-Tag:noindex
X-PUBLISHED-TTL:PT1H
BEGIN:VTIMEZONE
TZID:Europe/Paris
BEGIN:DAYLIGHT
TZOFFSETFROM:+0100
TZOFFSETTO:+0200
TZNAME:CEST
DTSTART:20240331T010000
END:DAYLIGHT
BEGIN:STANDARD
TZOFFSETFROM:+0200
TZOFFSETTO:+0100
TZNAME:CET
DTSTART:20241027T010000
END:STANDARD
BEGIN:DAYLIGHT
TZOFFSETFROM:+0100
TZOFFSETTO:+0200
TZNAME:CEST
DTSTART:20250330T010000
END:DAYLIGHT
BEGIN:STANDARD
TZOFFSETFROM:+0200
TZOFFSETTO:+0100
TZNAME:CET
DTSTART:20251026T010000
END:STANDARD
BEGIN:DAYLIGHT
TZOFFSETFROM:+0100
TZOFFSETTO:+0200
TZNAME:CEST
DTSTART:20260329T010000
END:DAYLIGHT
BEGIN:STANDARD
TZOFFSETFROM:+0200
TZOFFSETTO:+0100
TZNAME:CET
DTSTART:20261025T010000
END:STANDARD
END:VTIMEZONE
BEGIN:VEVENT
DTSTART;TZID=Europe/Paris:20250525T100000
DTEND;TZID=Europe/Paris:20250525T180000
DTSTAMP:20260422T101442
CREATED:20250506T200748Z
LAST-MODIFIED:20250506T201119Z
UID:10001981-1748167200-1748196000@www.annecyludique.fr
SUMMARY:Ludilac 2025 - Jour 2
DESCRIPTION:Le grand rendez-vous annuel pour fêter LE JEU dans tous ses états à la ludothèque du Forum des Romains à Annecy.\nRetrouvez des jeux de société\, des jeux d’adresse en extérieur\, du retro gaming\, des espaces réservés aux enfants dans une multitude d’espaces de jeux.\n\nPlus de 400m² de tables de jeux pour tous les âges.\nAvec la participation exceptionnelle de plusieurs auteurs et éditeurs de jeux qui se feront un plaisir de vous faire découvrir leurs dernières tendances.\n\nRestauration et buvette seront également prévues sur place.\n\nDe 10h à 18h\, profitez des tous les espaces de jeux et de restauration.\nEntrée LIBRE et GRATUITE pour tous.\n \n 
URL:https://www.annecyludique.fr/evenement/ludilac-2025-jour-2/
LOCATION:Ludothèque des Romains\, 9 rue de la solidarité\, Annecy\, 74000\, France
END:VEVENT
BEGIN:VEVENT
DTSTART;TZID=Europe/Paris:20250524T100000
DTEND;TZID=Europe/Paris:20250524T230000
DTSTAMP:20260422T101442
CREATED:20250506T200442Z
LAST-MODIFIED:20250506T201112Z
UID:10001980-1748080800-1748127600@www.annecyludique.fr
SUMMARY:Ludilac 2025 - Jour 1
DESCRIPTION:Le grand rendez-vous annuel pour fêter LE JEU dans tous ses états à la ludothèque du Forum des Romains à Annecy.\nRetrouvez des jeux de société\, des jeux d’adresse en extérieur\, du retro gaming\, des espaces réservés aux enfants dans une multitude d’espaces de jeux.\n\nPlus de 400m² de tables de jeux pour tous les âges.\nAvec la participation exceptionnelle de plusieurs auteurs et éditeurs de jeux qui se feront un plaisir de vous faire découvrir leurs dernières tendances.\n\nRestauration et buvette seront également prévues sur place.\n\nDe 10h à 23h\, profitez des tous les espaces de jeux et de restauration.\nEntrée LIBRE et GRATUITE pour tous.\n\n \n 
URL:https://www.annecyludique.fr/evenement/ludilac-2025-jour-1/
LOCATION:Ludothèque des Romains\, 9 rue de la solidarité\, Annecy\, 74000\, France
END:VEVENT
BEGIN:VEVENT
DTSTART;TZID=Europe/Paris:20250523T190000
DTEND;TZID=Europe/Paris:20250524T000000
DTSTAMP:20260422T101442
CREATED:20250506T200159Z
LAST-MODIFIED:20250506T200610Z
UID:10001979-1748026800-1748044800@www.annecyludique.fr
SUMMARY:Soirée jeux de figurines – Ludilac 2025
DESCRIPTION:Soirée jeux de figurines dans le grand chapiteau. \nBoissons et crêpes à la Taverne. \n\n \n 
URL:https://www.annecyludique.fr/evenement/soiree-jeux-de-figurines-ludilac-2025/
LOCATION:Ludothèque des Romains\, 9 rue de la solidarité\, Annecy\, 74000\, France
END:VEVENT
BEGIN:VEVENT
DTSTART;TZID=Europe/Paris:20250522T183000
DTEND;TZID=Europe/Paris:20250523T000000
DTSTAMP:20260422T101442
CREATED:20250506T200043Z
LAST-MODIFIED:20250506T200554Z
UID:10001978-1747938600-1747958400@www.annecyludique.fr
SUMMARY:Soirée jeux – Ludilac 2025
DESCRIPTION:Inauguration du festival à partir de 18h30. \nSoirée jeux dans le grand chapiteau. \nPrésence d’invités prestigieux ! \nBoisson à la Taverne et pizzas à la Roulotte. \n\n \n 
URL:https://www.annecyludique.fr/evenement/soiree-jeux-ludilac-2025/
LOCATION:Ludothèque des Romains\, 9 rue de la solidarité\, Annecy\, 74000\, France
END:VEVENT
END:VCALENDAR